BEGIN:VCALENDAR
VERSION:2.0
PRODID:-//Planning Accreditation Board - ECPv6.15.16//NONSGML v1.0//EN
CALSCALE:GREGORIAN
METHOD:PUBLISH
X-WR-CALNAME:Planning Accreditation Board
X-ORIGINAL-URL:https://www.planningaccreditationboard.org
X-WR-CALDESC:Events for Planning Accreditation Board
REFRESH-INTERVAL;VALUE=DURATION:PT1H
X-Robots-Tag:noindex
X-PUBLISHED-TTL:PT1H
BEGIN:VTIMEZONE
TZID:UTC
BEGIN:STANDARD
TZOFFSETFROM:+0000
TZOFFSETTO:+0000
TZNAME:UTC
DTSTART:20230101T000000
END:STANDARD
END:VTIMEZONE
BEGIN:VEVENT
DTSTART;VALUE=DATE:20240614
DTEND;VALUE=DATE:20240715
DTSTAMP:20260423T143515
CREATED:20201210T193254Z
LAST-MODIFIED:20240621T185004Z
UID:3189-1718323200-1721001599@www.planningaccreditationboard.org
SUMMARY:Draft 1: Public Comment Period
DESCRIPTION:The Planning Accreditation Board (PAB) has proposed an amendment to its 2022 Accreditation Standards. To view the proposed revision\, please visit the Call for Comments section of the PAB website. The deadline to submit comments\, via the online survey\, is no later than July 14\, 2024. To learn more about the revisions\, please register here to join PAB members during the Town Hall on June 25\, 2024 at 1 – 2pm EDT (10 – 11am PDT / Noon – 1pm CDT). \nShare your comments and ideas with PAB– Click here for Online Survey (Public Comment 1)
URL:https://www.planningaccreditationboard.org/event/survey/
CATEGORIES:Survey
ATTACH;FMTTYPE=image/png:https://www.planningaccreditationboard.org/wp-content/uploads/2021/01/pab-cal-panel-survey-2x.png
END:VEVENT
BEGIN:VEVENT
DTSTART;TZID=UTC:20240415T110000
DTEND;TZID=UTC:20240415T130000
DTSTAMP:20260423T143515
CREATED:20220428T155627Z
LAST-MODIFIED:20240328T144848Z
UID:4478-1713178800-1713186000@www.planningaccreditationboard.org
SUMMARY:Site Visitor Training @ APA National Planning Conference
DESCRIPTION:During this session\, Site Visitors will learn about the requirements and expectations of the 2022 Accreditation Standards and how to conduct assessment on select criteria. PAB will provide an update on the accreditation process and discuss recent changes. Program Administrators and interested faculty are encouraged to attend. \nDate: Monday April\, 15\, 2024 \nTime: 11:00-1:00pm Central \nLocation: Symphony Ballroom II\, Hilton Minneapolis \n 
URL:https://www.planningaccreditationboard.org/event/pab-site-visitor-training-apa-npc/
ATTACH;FMTTYPE=image/png:https://www.planningaccreditationboard.org/wp-content/uploads/2021/01/pab-cal-board-meeting-2x.png
END:VEVENT
END:VCALENDAR