BEGIN:VCALENDAR
VERSION:2.0
PRODID:-//Planning Accreditation Board - ECPv6.15.16//NONSGML v1.0//EN
CALSCALE:GREGORIAN
METHOD:PUBLISH
X-ORIGINAL-URL:https://www.planningaccreditationboard.org
X-WR-CALDESC:Events for Planning Accreditation Board
REFRESH-INTERVAL;VALUE=DURATION:PT1H
X-Robots-Tag:noindex
X-PUBLISHED-TTL:PT1H
BEGIN:VTIMEZONE
TZID:UTC
BEGIN:STANDARD
TZOFFSETFROM:+0000
TZOFFSETTO:+0000
TZNAME:UTC
DTSTART:20250101T000000
END:STANDARD
END:VTIMEZONE
BEGIN:VEVENT
DTSTART;VALUE=DATE:20260101
DTEND;VALUE=DATE:20260416
DTSTAMP:20260425T155413
CREATED:20241218T212039Z
LAST-MODIFIED:20260310T193652Z
UID:5139-1767225600-1776297599@www.planningaccreditationboard.org
SUMMARY:Spring Site Visits
DESCRIPTION:February 2 – 4\, 2026: University of California\, Los Angeles\nFebruary 9 – 11\, 2026: New York University\nFebruary 22 – 25\, 2026: Virginia Polytechnic Institute and State University\nMarch 2 – 4\, 2026: San Diego State University\nMarch 8 – 11\, 2026: California Polytechnic State University\, San Luis Obispo\nMarch 9 – 11\, 2026: University of New Orleans\nMarch 16 – 18\, 2026: San Jose State University\nMarch 23 – 25\, 2026: University of Georgia\nMarch 23 – 25\, 2026: Temple University\nApril 13 – 15\, 2026: University of Florida (rescheduled)\n\n 
URL:https://www.planningaccreditationboard.org/event/spring-site-visits-2/
ATTACH;FMTTYPE=image/png:https://www.planningaccreditationboard.org/wp-content/uploads/2021/01/pab-cal-site-visit-2x-1.png
END:VEVENT
BEGIN:VEVENT
DTSTART;VALUE=DATE:20260206
DTEND;VALUE=DATE:20260207
DTSTAMP:20260425T155413
CREATED:20210414T203039Z
LAST-MODIFIED:20260122T175953Z
UID:3937-1770336000-1770422399@www.planningaccreditationboard.org
SUMMARY:Annual Report due
DESCRIPTION:All accredited programs must submit an Annual Report and demonstrate compliance with PAB criterion 1D/ Public Information. \nFor guidance completing the annual report\, view the Annual Report Overview or Frequently Asked Questions page. \nFor guidance updating 1D/ Public Information\, view the Materials for Presentation of Public Information/Criterion 1D on the Accreditation Resources page. \n  \n 
URL:https://www.planningaccreditationboard.org/event/annual-report-due/
ATTACH;FMTTYPE=image/png:https://www.planningaccreditationboard.org/wp-content/uploads/2021/01/pab-cal-report-due-2x.png
END:VEVENT
END:VCALENDAR